BEGIN:VCALENDAR
VERSION:2.0
PRODID:icalendar-ruby
CALSCALE:GREGORIAN
METHOD:PUBLISH
BEGIN:VEVENT
DTSTAMP:20260422T230953Z
UID:6-1956034@pleasantviewbett.com
DTSTART:20221030T154500Z
DTEND:20221030T164500Z
CLASS:PUBLIC
CREATED:20250419T210800
DESCRIPTION:You will find community in our small groups each Sunday morning
 . This is a great way to connect and to dig even deeper into God's Word.
LAST-MODIFIED:20250419T210800
LOCATION:6400 Crow Creek Rd. Bettendorf\, IA 52722
SUMMARY:Adult Connect Groups and Sunday School
URL;VALUE=URI:https://www.pleasantviewbett.com/events/adult-connect-groups-
 and-sunday-school/2022-10-30
ATTACH;FILENAME=connect-group-2025_generic_1920x1080.jpg;FMTTYPE=image/jpeg
 :https://dq5pwpg1q8ru0.cloudfront.net/2024/12/29/04/41/51/62c4eabe-e61a-44
 e4-8855-95dacc6a1299/connect-group-2025_generic_1920x1080.jpg
END:VEVENT
END:VCALENDAR
