BEGIN:VCALENDAR
VERSION:2.0
PRODID:icalendar-ruby
CALSCALE:GREGORIAN
METHOD:PUBLISH
BEGIN:VEVENT
DTSTAMP:20260419T163210Z
UID:197-2864846@pleasantviewbett.com
DTSTART:20260512T233000Z
DTEND:20260513T003000Z
CLASS:PUBLIC
CREATED:20260419T083235
DESCRIPTION:Ministry for grandparents—our purpose is to equip and encoura
 ge grandparents and others to be intentional in prayer for their grandchil
 dren and for generations to come. See Jennifer Meyer or Barb Schwartz if y
 ou have any questions.  Location will be in the bulletin closer to the me
 eting date.\nAnyone is welcome to join on the second Tuesday of the month 
 at 6:30pm.
LAST-MODIFIED:20260419T083235
LOCATION:Contact Church Office for location
SUMMARY:Grandparenting with Purpose
URL;VALUE=URI:https://www.pleasantviewbett.com/events/grandparenting-with-p
 urpose/2026-05-12
ATTACH;FILENAME=grandparenting-with-purpose_1920x1080.jpg;FMTTYPE=image/jpe
 g:https://dq5pwpg1q8ru0.cloudfront.net/2024/05/04/17/44/21/4faa68f6-cec7-4
 5a2-bd5b-efdd93a3ab43/grandparenting-with-purpose_1920x1080.jpg
END:VEVENT
END:VCALENDAR
